BEGIN:VCALENDAR
VERSION:2.0
PRODID:-//Maryland NECA - ECPv6.6.4.2//NONSGML v1.0//EN
CALSCALE:GREGORIAN
METHOD:PUBLISH
X-WR-CALNAME:Maryland NECA
X-ORIGINAL-URL:https://marylandneca.org
X-WR-CALDESC:Events for Maryland NECA
REFRESH-INTERVAL;VALUE=DURATION:PT1H
X-Robots-Tag:noindex
X-PUBLISHED-TTL:PT1H
BEGIN:VTIMEZONE
TZID:America/New_York
BEGIN:DAYLIGHT
TZOFFSETFROM:-0500
TZOFFSETTO:-0400
TZNAME:EDT
DTSTART:20230312T070000
END:DAYLIGHT
BEGIN:STANDARD
TZOFFSETFROM:-0400
TZOFFSETTO:-0500
TZNAME:EST
DTSTART:20231105T060000
END:STANDARD
END:VTIMEZONE
BEGIN:VEVENT
DTSTART;TZID=America/New_York:20230522T080000
DTEND;TZID=America/New_York:20230522T153000
DTSTAMP:20260420T005030
CREATED:20230112T190838Z
LAST-MODIFIED:20230112T190936Z
UID:1709-1684742400-1684769400@marylandneca.org
SUMMARY:6th Annual NECA Golf Classic (The Children's Cancer Foundation)
DESCRIPTION:In partnership with The Children’s Cancer Foundation\, Maryland NECA is proud to sponsor its 6th Annual Golf Classic at the Turf Valley Resort. Established with the intention of bringing awareness towards pediatric cancer and with the goal of raising funds for the research and treatment of cancers that affect children; to date\, Maryland NECA has donated over $250\,000 to The Children’s Cancer Foundation! None of which would be possible without the incredible support and generosity of our sponsors. \nAll proceeds will be donated to The Children’s Cancer Foundation (CCF)\, an independent nonprofit committed to funding locally-based researchers\, programs and facilities until every child is assured a healthy future. If you’re interested in participating\, sponsoring\, or donating to this worthwhile charitable event\, please fill out the attached registration form and send to the NECA Office. 
URL:https://marylandneca.org/event/6th-annual-neca-golf-classic-the-childrens-cancer-foundation/
LOCATION:Turf Valley Resort\, 2700 Turf Valley Rd\, Ellicott City\, MD\, 21042\, United States
ATTACH;FMTTYPE=image/jpeg:https://marylandneca.org/wp-content/uploads/2021/11/Turf-Valley.jpeg
END:VEVENT
END:VCALENDAR