BEGIN:VCALENDAR
VERSION:2.0
PRODID:-//Maryland NECA - ECPv6.6.4.2//NONSGML v1.0//EN
CALSCALE:GREGORIAN
METHOD:PUBLISH
X-ORIGINAL-URL:https://marylandneca.org
X-WR-CALDESC:Events for Maryland NECA
REFRESH-INTERVAL;VALUE=DURATION:PT1H
X-Robots-Tag:noindex
X-PUBLISHED-TTL:PT1H
BEGIN:VTIMEZONE
TZID:America/New_York
BEGIN:DAYLIGHT
TZOFFSETFROM:-0500
TZOFFSETTO:-0400
TZNAME:EDT
DTSTART:20240310T070000
END:DAYLIGHT
BEGIN:STANDARD
TZOFFSETFROM:-0400
TZOFFSETTO:-0500
TZNAME:EST
DTSTART:20241103T060000
END:STANDARD
END:VTIMEZONE
BEGIN:VEVENT
DTSTART;TZID=America/New_York:20241122T100000
DTEND;TZID=America/New_York:20241122T133000
DTSTAMP:20260421T091535
CREATED:20240923T143305Z
LAST-MODIFIED:20240926T165632Z
UID:1919-1732269600-1732282200@marylandneca.org
SUMMARY:Industry Connect
DESCRIPTION:Industry Connect 2024\n\n\n\n\n\n\n\n\n	School or Organization Name\n		\n	\n	\n	\n	\n\n\n	Name\n		\n	\n	\n	\n		Name	\n\n	\n					\n				\n					First				\n\n										\n						First			\n						\n				\n					Last				\n\n										\n						Last			\n				\n\n\n	\n	\n\n\n	Email\n		\n	\n	\n	\n	\n\n\n	Phone\n		\n	\n	\n	\n	\n\n\n	What Best Describes You?\n		\n	\n						\n			 High School Student\n					\n			 High School Teacher\n					\n			 High School Counselor\n					\n			 Other\n\n	\n	\n\n\n	What Interests You About Inudstry Connect?\n		\n	\n						\n			 Learn More About the Electrical Construction Industry\n					\n			 Career Opportunties in Electrical Construction Industry\n					\n			 Learn More About Apprenticeships\n					\n			 Other\n\n	\n	\n\n\n	Number of Attendees\n		\n	\n			\n		123456789101112131415161718192020+	\n	\n	\n	\n\n\n	\nSubmit\n\n\n\n\n\n	\n				\n				\n					If you are human\, leave this field blank.
URL:https://marylandneca.org/event/industry-connect-3/
LOCATION:Baltimore JATC\, 2699 W Patapsco Ave\, Baltimore\, MD\, 21230\, United States
ATTACH;FMTTYPE=image/png:https://marylandneca.org/wp-content/uploads/2023/08/Screen-Shot-2023-08-10-at-10.28.13-AM.png
END:VEVENT
END:VCALENDAR