BEGIN:VCALENDAR
VERSION:2.0
PRODID:-//Maryland NECA - ECPv6.6.4.2//NONSGML v1.0//EN
CALSCALE:GREGORIAN
METHOD:PUBLISH
X-ORIGINAL-URL:https://marylandneca.org
X-WR-CALDESC:Events for Maryland NECA
REFRESH-INTERVAL;VALUE=DURATION:PT1H
X-Robots-Tag:noindex
X-PUBLISHED-TTL:PT1H
BEGIN:VTIMEZONE
TZID:America/New_York
BEGIN:DAYLIGHT
TZOFFSETFROM:-0500
TZOFFSETTO:-0400
TZNAME:EDT
DTSTART:20250309T070000
END:DAYLIGHT
BEGIN:STANDARD
TZOFFSETFROM:-0400
TZOFFSETTO:-0500
TZNAME:EST
DTSTART:20251102T060000
END:STANDARD
END:VTIMEZONE
BEGIN:VEVENT
DTSTART;TZID=America/New_York:20251002T180000
DTEND;TZID=America/New_York:20251002T220000
DTSTAMP:20260421T100804
CREATED:20250107T175137Z
LAST-MODIFIED:20250401T182101Z
UID:2089-1759428000-1759442400@marylandneca.org
SUMMARY:75th Anniversary Maryland NECA Gala
DESCRIPTION:Maryland NECA is thrilled to celebrate the Chapter’s 75th Anniversary! To mark this major milestone\, we will be hosting our Annual Gala at the stunning Chesapeake Bay Beach Club. Located less than an hour from Washington\, D.C. and Baltimore on the scenic shores of Kent Island\, this premier waterfront venue offers breathtaking views and award-winning cuisine\, all within a charming craftsman-style resort that reflects the rich heritage of the Chesapeake Bay region. \nWe’ve reserved over 60 beautifully appointed guest rooms and suites between The Inn at the Chesapeake Bay Beach Club and the Kent Island Resort. To ensure everyone enjoys the evening safely and comfortably\, accommodations will be provided for attendees. While we welcome members\, key employees\, and their significant others\, hotel room allocations will be based on man-hours worked in the previous year. \nTo secure your accommodations\, please register by Friday\, August 15\, 2025. After this date\, any remaining rooms will be offered on a first-come\, first-served basis. Join us for an unforgettable evening as we celebrate 75 years of excellence. Maryland NECA’s 75th Anniversary Gala is an event you won’t want to miss! \n2025 NECA Gala Sign-Up
URL:https://marylandneca.org/event/75th-anniversary-maryland-neca-gala/
LOCATION:Chesapeake Bay Beach Club\, 180 Pier 1 Rd\, Stevensville\, MD\, 21666\, United States
ATTACH;FMTTYPE=image/png:https://marylandneca.org/wp-content/uploads/2025/01/Chesapeake-Bay-Beach-Club-Wedding-Tavern-Ballroom_0061.jpg-copy.png
END:VEVENT
END:VCALENDAR